BEGIN:VCALENDAR
VERSION:2.0
PRODID:-//friendica calendar export//0.1//EN
BEGIN:VEVENT
UID:701
DTSTAMP:20210920T093635Z
DTSTART:20210927T150000Z
DTEND:20211010T210000Z
SUMMARY:CodeFest 2021
DESCRIPTION:CodeFest è il Festival della [b]cultura del codice sorgente[/b]\, della sua storia\, del suo futuro. Organizzato da [url=http://www.codexpo.org]Codexpo.org[/url] e da [url=https://unito.it]UniTo[/url]
 Oltre [b]30 eventi [/b]sul codice sorgente\, online\, [b]completamente gratuiti.[/b]
 
 Il Festival è aperto a tutti: al mondo della [b]formazione[/b] e della [b]ricerca[/b] (studenti\, docenti\, studiosi)\, a quello della [b]programmazione[/b] (sviluppatori e imprenditori) e dell’[b]arte[/b] (hackers\, musicisti\, dj\, artisti visuali).
 
 Ma soprattutto è rivolto al [b]pubblico[/b] generale\, ad [b]appassionati[/b] e [b]curiosi[/b]\, a tutti quelli che hanno sentito parlare di codice sorgente ma non sanno bene cosa sia.
 Registrazione e partecipazione tramite la piattaforma [url=http://codefest2021.lynxlab.com]http://codefest2021.lynxlab.com[/url]
END:VEVENT
END:VCALENDAR
